BEGIN:VCALENDAR
VERSION:2.0
PRODID:-//217.160.0.53//NONSGML kigkonsult.se iCalcreator 2.20//
CALSCALE:GREGORIAN
METHOD:PUBLISH
X-WR-TIMEZONE:Europe/Berlin
BEGIN:VEVENT
UID:event132@Freiwillige Feuerwehr Reichertshofen e.V.
DTSTAMP:20260420T110847Z
CATEGORIES:Verein
DESCRIPTION:Gründungsfest FF Adelshausen\nKategorie: Verein\nICS-Link: http
 s://ff-reichertshofen.de/index.php?option=com_jem&view=event&id=132:gruend
 ungsfest-ff-adelshausen\n
DTSTART;TZID=Europe/Berlin:20260531T083000
DTEND;TZID=Europe/Berlin:20260531T083000
LOCATION:Freiwillige Feuerwehr Reichertshofen e.V.\,Münchner Straße 30\,850
 84 Reichertshofen
SUMMARY:Gründungsfest FF Adelshausen
URL:https://ff-reichertshofen.de/index.php?option=com_jem&view=event&id=132
 :gruendungsfest-ff-adelshausen
END:VEVENT
END:VCALENDAR
